BEGIN:VCALENDAR
PRODID:-//Events Calendar//iCal4j 1.0//EN
CALSCALE:GREGORIAN
BEGIN:VEVENT
DTSTAMP:20260420T192048Z
DTSTART:20260309T070000
DTEND:20260407T160000
SUMMARY:Gedeeltelijke wegafsluiting Midrethstraat ter hoogte van huisnummer 17 in Mijdrecht
TZID:Europe/Brussels
UID:20260420T192048Z-uidGen@fe80:0:0:0:e0ac:69ff:fe21:3e01%eth0
DESCRIPTION:
LOCATION:
X-ALT-DESC;FMTTYPE=text/html:<h2>Locatie afsluiting</h2>\n\n<p>De Midrethstraat ter hoogte van huisnummer 17 in Mijdrecht is op 9 maart om 7:00 uur t/m 7 april 2026 om 16:00 uur gedeeltelijk afgesloten.</p>\n\n<h2>Reden afsluiting</h2>\n\n<p>Deze maatregel is nodig in verband met kraan werkzaamheden voor onderhoud aan de woningen aan de Midrethstraat 17 t/m 35 (oneven nummers).<br />\nDe kraan zal in de periode van 09-03-2026 t/m 07-04-2026\, onder werktijd van 07:00 - 16:00 op locatie aanwezig zijn. Tijdens de hijswerkzaamheden wordt al het verkeer tegengehouden. Buiten deze werktijden en in het weekend is de weg open. Het verkeer kan passeren maar houd u rekening met een langere reistijd.</p>\n\n<h2>Heeft u nog vragen?</h2>\n\n<p>Op werkdagen kunt u tussen 8:00 en 16:30 uur contact opnemen met T. ter Haak van de firma Talen West B.V. via T. 06-21142769 of <a href="mailto:tterhaak@talen.nl">tterhaak@talen.nl</a>.</p>\n
END:VEVENT
END:VCALENDAR
